BEGIN:VCALENDAR
VERSION:2.0
PRODID:-//Surrey Lawn Bowling Club - ECPv6.15.20//NONSGML v1.0//EN
CALSCALE:GREGORIAN
METHOD:PUBLISH
X-WR-CALNAME:Surrey Lawn Bowling Club
X-ORIGINAL-URL:https://www.surreylawnbowlingclub.ca
X-WR-CALDESC:Events for Surrey Lawn Bowling Club
REFRESH-INTERVAL;VALUE=DURATION:PT1H
X-Robots-Tag:noindex
X-PUBLISHED-TTL:PT1H
BEGIN:VTIMEZONE
TZID:America/Vancouver
BEGIN:DAYLIGHT
TZOFFSETFROM:-0800
TZOFFSETTO:-0700
TZNAME:PDT
DTSTART:20250309T100000
END:DAYLIGHT
BEGIN:STANDARD
TZOFFSETFROM:-0700
TZOFFSETTO:-0800
TZNAME:PST
DTSTART:20251102T090000
END:STANDARD
BEGIN:DAYLIGHT
TZOFFSETFROM:-0800
TZOFFSETTO:-0700
TZNAME:PDT
DTSTART:20260308T100000
END:DAYLIGHT
BEGIN:STANDARD
TZOFFSETFROM:-0700
TZOFFSETTO:-0800
TZNAME:PST
DTSTART:20261101T090000
END:STANDARD
BEGIN:DAYLIGHT
TZOFFSETFROM:-0800
TZOFFSETTO:-0700
TZNAME:PDT
DTSTART:20270314T100000
END:DAYLIGHT
BEGIN:STANDARD
TZOFFSETFROM:-0700
TZOFFSETTO:-0800
TZNAME:PST
DTSTART:20271107T090000
END:STANDARD
END:VTIMEZONE
BEGIN:VEVENT
DTSTART;TZID=America/Vancouver:20260605T180000
DTEND;TZID=America/Vancouver:20260605T200000
DTSTAMP:20260422T070951
CREATED:20260419T183934Z
LAST-MODIFIED:20260419T184319Z
UID:10005042-1780682400-1780689600@www.surreylawnbowlingclub.ca
SUMMARY:Summer Drop-ins PM
DESCRIPTION:
URL:https://www.surreylawnbowlingclub.ca/event/summer-drop-ins-pm-2-2-2/2026-06-05/
END:VEVENT
BEGIN:VEVENT
DTSTART;TZID=America/Vancouver:20260606T130000
DTEND;TZID=America/Vancouver:20260606T143000
DTSTAMP:20260422T070951
CREATED:20260409T234813Z
LAST-MODIFIED:20260419T182800Z
UID:10005002-1780750800-1780756200@www.surreylawnbowlingclub.ca
SUMMARY:Try-It 55+ 2026
DESCRIPTION:
URL:https://www.surreylawnbowlingclub.ca/event/try-it-55-2026/2026-06-06/
END:VEVENT
BEGIN:VEVENT
DTSTART;TZID=America/Vancouver:20260608T100000
DTEND;TZID=America/Vancouver:20260608T120000
DTSTAMP:20260422T070951
CREATED:20260409T231802Z
LAST-MODIFIED:20260409T231802Z
UID:10004848-1780912800-1780920000@www.surreylawnbowlingclub.ca
SUMMARY:Triples League 2026 May-Jun
DESCRIPTION:
URL:https://www.surreylawnbowlingclub.ca/event/triples-league-2026-may-jun/2026-06-08/
END:VEVENT
BEGIN:VEVENT
DTSTART;TZID=America/Vancouver:20260608T100000
DTEND;TZID=America/Vancouver:20260608T120000
DTSTAMP:20260422T070951
CREATED:20260417T042037Z
LAST-MODIFIED:20260417T042513Z
UID:10005014-1780912800-1780920000@www.surreylawnbowlingclub.ca
SUMMARY:Drop-ins pls use open greens
DESCRIPTION:
URL:https://www.surreylawnbowlingclub.ca/event/spring-summer-drop-ins/2026-06-08/
END:VEVENT
BEGIN:VEVENT
DTSTART;TZID=America/Vancouver:20260609T180000
DTEND;TZID=America/Vancouver:20260609T200000
DTSTAMP:20260422T070951
CREATED:20260419T183934Z
LAST-MODIFIED:20260419T184319Z
UID:10005043-1781028000-1781035200@www.surreylawnbowlingclub.ca
SUMMARY:Summer Drop-ins PM
DESCRIPTION:
URL:https://www.surreylawnbowlingclub.ca/event/summer-drop-ins-pm-2-2-2/2026-06-09/
END:VEVENT
BEGIN:VEVENT
DTSTART;TZID=America/Vancouver:20260610T100000
DTEND;TZID=America/Vancouver:20260610T120000
DTSTAMP:20260422T070951
CREATED:20260409T233619Z
LAST-MODIFIED:20260409T235944Z
UID:10004990-1781085600-1781092800@www.surreylawnbowlingclub.ca
SUMMARY:Tri-Cities 2026
DESCRIPTION:
URL:https://www.surreylawnbowlingclub.ca/event/tri-cities-2025-2/2026-06-10/
END:VEVENT
BEGIN:VEVENT
DTSTART;TZID=America/Vancouver:20260611T100000
DTEND;TZID=America/Vancouver:20260611T120000
DTSTAMP:20260422T070951
CREATED:20260409T232706Z
LAST-MODIFIED:20260417T015632Z
UID:10004934-1781172000-1781179200@www.surreylawnbowlingclub.ca
SUMMARY:Aussie Pairs League 2026 May-Jun
DESCRIPTION:
URL:https://www.surreylawnbowlingclub.ca/event/aussie-pairs-league-2025-2/2026-06-11/
END:VEVENT
BEGIN:VEVENT
DTSTART;TZID=America/Vancouver:20260611T100000
DTEND;TZID=America/Vancouver:20260611T120000
DTSTAMP:20260422T070951
CREATED:20260417T042037Z
LAST-MODIFIED:20260417T042513Z
UID:10005015-1781172000-1781179200@www.surreylawnbowlingclub.ca
SUMMARY:Drop-ins pls use open greens
DESCRIPTION:
URL:https://www.surreylawnbowlingclub.ca/event/spring-summer-drop-ins/2026-06-11/
END:VEVENT
BEGIN:VEVENT
DTSTART;TZID=America/Vancouver:20260612T180000
DTEND;TZID=America/Vancouver:20260612T200000
DTSTAMP:20260422T070951
CREATED:20260419T183934Z
LAST-MODIFIED:20260419T184319Z
UID:10005044-1781287200-1781294400@www.surreylawnbowlingclub.ca
SUMMARY:Summer Drop-ins PM
DESCRIPTION:
URL:https://www.surreylawnbowlingclub.ca/event/summer-drop-ins-pm-2-2-2/2026-06-12/
END:VEVENT
BEGIN:VEVENT
DTSTART;TZID=America/Vancouver:20260614T130000
DTEND;TZID=America/Vancouver:20260614T150000
DTSTAMP:20260422T070951
CREATED:20240204T175757Z
LAST-MODIFIED:20260409T235348Z
UID:10002979-1781442000-1781449200@www.surreylawnbowlingclub.ca
SUMMARY:Visitation at Mann Park
DESCRIPTION:
URL:https://www.surreylawnbowlingclub.ca/event/visit-mann-park/
END:VEVENT
BEGIN:VEVENT
DTSTART;TZID=America/Vancouver:20260615T100000
DTEND;TZID=America/Vancouver:20260615T120000
DTSTAMP:20260422T070951
CREATED:20260409T231802Z
LAST-MODIFIED:20260409T231802Z
UID:10004849-1781517600-1781524800@www.surreylawnbowlingclub.ca
SUMMARY:Triples League 2026 May-Jun
DESCRIPTION:
URL:https://www.surreylawnbowlingclub.ca/event/triples-league-2026-may-jun/2026-06-15/
END:VEVENT
BEGIN:VEVENT
DTSTART;TZID=America/Vancouver:20260615T100000
DTEND;TZID=America/Vancouver:20260615T120000
DTSTAMP:20260422T070951
CREATED:20260417T042037Z
LAST-MODIFIED:20260417T042513Z
UID:10005016-1781517600-1781524800@www.surreylawnbowlingclub.ca
SUMMARY:Drop-ins pls use open greens
DESCRIPTION:
URL:https://www.surreylawnbowlingclub.ca/event/spring-summer-drop-ins/2026-06-15/
END:VEVENT
BEGIN:VEVENT
DTSTART;TZID=America/Vancouver:20260616T180000
DTEND;TZID=America/Vancouver:20260616T200000
DTSTAMP:20260422T070951
CREATED:20260419T183934Z
LAST-MODIFIED:20260419T184319Z
UID:10005045-1781632800-1781640000@www.surreylawnbowlingclub.ca
SUMMARY:Summer Drop-ins PM
DESCRIPTION:
URL:https://www.surreylawnbowlingclub.ca/event/summer-drop-ins-pm-2-2-2/2026-06-16/
END:VEVENT
BEGIN:VEVENT
DTSTART;TZID=America/Vancouver:20260617T100000
DTEND;TZID=America/Vancouver:20260617T120000
DTSTAMP:20260422T070951
CREATED:20260409T233619Z
LAST-MODIFIED:20260409T235944Z
UID:10004991-1781690400-1781697600@www.surreylawnbowlingclub.ca
SUMMARY:Tri-Cities 2026
DESCRIPTION:
URL:https://www.surreylawnbowlingclub.ca/event/tri-cities-2025-2/2026-06-17/
END:VEVENT
BEGIN:VEVENT
DTSTART;TZID=America/Vancouver:20260618T100000
DTEND;TZID=America/Vancouver:20260618T120000
DTSTAMP:20260422T070951
CREATED:20260409T232706Z
LAST-MODIFIED:20260417T015632Z
UID:10004935-1781776800-1781784000@www.surreylawnbowlingclub.ca
SUMMARY:Aussie Pairs League 2026 May-Jun
DESCRIPTION:
URL:https://www.surreylawnbowlingclub.ca/event/aussie-pairs-league-2025-2/2026-06-18/
END:VEVENT
BEGIN:VEVENT
DTSTART;TZID=America/Vancouver:20260618T100000
DTEND;TZID=America/Vancouver:20260618T120000
DTSTAMP:20260422T070951
CREATED:20260417T042037Z
LAST-MODIFIED:20260417T042513Z
UID:10005017-1781776800-1781784000@www.surreylawnbowlingclub.ca
SUMMARY:Drop-ins pls use open greens
DESCRIPTION:
URL:https://www.surreylawnbowlingclub.ca/event/spring-summer-drop-ins/2026-06-18/
END:VEVENT
BEGIN:VEVENT
DTSTART;TZID=America/Vancouver:20260619T180000
DTEND;TZID=America/Vancouver:20260619T200000
DTSTAMP:20260422T070951
CREATED:20260419T183934Z
LAST-MODIFIED:20260419T184319Z
UID:10005046-1781892000-1781899200@www.surreylawnbowlingclub.ca
SUMMARY:Summer Drop-ins PM
DESCRIPTION:
URL:https://www.surreylawnbowlingclub.ca/event/summer-drop-ins-pm-2-2-2/2026-06-19/
END:VEVENT
BEGIN:VEVENT
DTSTART;TZID=America/Vancouver:20260621T130000
DTEND;TZID=America/Vancouver:20260621T150000
DTSTAMP:20260422T070951
CREATED:20260409T235803Z
LAST-MODIFIED:20260409T235848Z
UID:10005003-1782046800-1782054000@www.surreylawnbowlingclub.ca
SUMMARY:Visitation at White Rock
DESCRIPTION:
URL:https://www.surreylawnbowlingclub.ca/event/visitation-at-white-rock/
END:VEVENT
BEGIN:VEVENT
DTSTART;TZID=America/Vancouver:20260622T100000
DTEND;TZID=America/Vancouver:20260622T120000
DTSTAMP:20260422T070951
CREATED:20260409T231802Z
LAST-MODIFIED:20260409T231802Z
UID:10004850-1782122400-1782129600@www.surreylawnbowlingclub.ca
SUMMARY:Triples League 2026 May-Jun
DESCRIPTION:
URL:https://www.surreylawnbowlingclub.ca/event/triples-league-2026-may-jun/2026-06-22/
END:VEVENT
BEGIN:VEVENT
DTSTART;TZID=America/Vancouver:20260622T100000
DTEND;TZID=America/Vancouver:20260622T120000
DTSTAMP:20260422T070951
CREATED:20260417T042037Z
LAST-MODIFIED:20260417T042513Z
UID:10005018-1782122400-1782129600@www.surreylawnbowlingclub.ca
SUMMARY:Drop-ins pls use open greens
DESCRIPTION:
URL:https://www.surreylawnbowlingclub.ca/event/spring-summer-drop-ins/2026-06-22/
END:VEVENT
BEGIN:VEVENT
DTSTART;TZID=America/Vancouver:20260623T180000
DTEND;TZID=America/Vancouver:20260623T200000
DTSTAMP:20260422T070951
CREATED:20260419T183934Z
LAST-MODIFIED:20260419T184319Z
UID:10005047-1782237600-1782244800@www.surreylawnbowlingclub.ca
SUMMARY:Summer Drop-ins PM
DESCRIPTION:
URL:https://www.surreylawnbowlingclub.ca/event/summer-drop-ins-pm-2-2-2/2026-06-23/
END:VEVENT
BEGIN:VEVENT
DTSTART;TZID=America/Vancouver:20260624T100000
DTEND;TZID=America/Vancouver:20260624T120000
DTSTAMP:20260422T070951
CREATED:20260409T233619Z
LAST-MODIFIED:20260409T235944Z
UID:10004992-1782295200-1782302400@www.surreylawnbowlingclub.ca
SUMMARY:Tri-Cities 2026
DESCRIPTION:
URL:https://www.surreylawnbowlingclub.ca/event/tri-cities-2025-2/2026-06-24/
END:VEVENT
BEGIN:VEVENT
DTSTART;TZID=America/Vancouver:20260625T100000
DTEND;TZID=America/Vancouver:20260625T120000
DTSTAMP:20260422T070951
CREATED:20260409T232706Z
LAST-MODIFIED:20260417T015632Z
UID:10004936-1782381600-1782388800@www.surreylawnbowlingclub.ca
SUMMARY:Aussie Pairs League 2026 May-Jun
DESCRIPTION:
URL:https://www.surreylawnbowlingclub.ca/event/aussie-pairs-league-2025-2/2026-06-25/
END:VEVENT
BEGIN:VEVENT
DTSTART;TZID=America/Vancouver:20260625T100000
DTEND;TZID=America/Vancouver:20260625T120000
DTSTAMP:20260422T070951
CREATED:20260417T042037Z
LAST-MODIFIED:20260417T042513Z
UID:10005019-1782381600-1782388800@www.surreylawnbowlingclub.ca
SUMMARY:Drop-ins pls use open greens
DESCRIPTION:
URL:https://www.surreylawnbowlingclub.ca/event/spring-summer-drop-ins/2026-06-25/
END:VEVENT
BEGIN:VEVENT
DTSTART;TZID=America/Vancouver:20260626T180000
DTEND;TZID=America/Vancouver:20260626T200000
DTSTAMP:20260422T070951
CREATED:20260419T183934Z
LAST-MODIFIED:20260419T184319Z
UID:10005048-1782496800-1782504000@www.surreylawnbowlingclub.ca
SUMMARY:Summer Drop-ins PM
DESCRIPTION:
URL:https://www.surreylawnbowlingclub.ca/event/summer-drop-ins-pm-2-2-2/2026-06-26/
END:VEVENT
BEGIN:VEVENT
DTSTART;TZID=America/Vancouver:20260627T130000
DTEND;TZID=America/Vancouver:20260627T143000
DTSTAMP:20260422T070951
CREATED:20260409T234813Z
LAST-MODIFIED:20260419T182800Z
UID:10005037-1782565200-1782570600@www.surreylawnbowlingclub.ca
SUMMARY:Try-It 55+ 2026
DESCRIPTION:
URL:https://www.surreylawnbowlingclub.ca/event/try-it-55-2026/2026-06-27/
END:VEVENT
BEGIN:VEVENT
DTSTART;TZID=America/Vancouver:20260629T100000
DTEND;TZID=America/Vancouver:20260629T120000
DTSTAMP:20260422T070951
CREATED:20260409T231802Z
LAST-MODIFIED:20260409T231802Z
UID:10004851-1782727200-1782734400@www.surreylawnbowlingclub.ca
SUMMARY:Triples League 2026 May-Jun
DESCRIPTION:
URL:https://www.surreylawnbowlingclub.ca/event/triples-league-2026-may-jun/2026-06-29/
END:VEVENT
BEGIN:VEVENT
DTSTART;TZID=America/Vancouver:20260629T100000
DTEND;TZID=America/Vancouver:20260629T120000
DTSTAMP:20260422T070951
CREATED:20260417T042037Z
LAST-MODIFIED:20260417T042513Z
UID:10005020-1782727200-1782734400@www.surreylawnbowlingclub.ca
SUMMARY:Drop-ins pls use open greens
DESCRIPTION:
URL:https://www.surreylawnbowlingclub.ca/event/spring-summer-drop-ins/2026-06-29/
END:VEVENT
BEGIN:VEVENT
DTSTART;TZID=America/Vancouver:20260630T180000
DTEND;TZID=America/Vancouver:20260630T200000
DTSTAMP:20260422T070951
CREATED:20260419T183934Z
LAST-MODIFIED:20260419T184319Z
UID:10005049-1782842400-1782849600@www.surreylawnbowlingclub.ca
SUMMARY:Summer Drop-ins PM
DESCRIPTION:
URL:https://www.surreylawnbowlingclub.ca/event/summer-drop-ins-pm-2-2-2/2026-06-30/
END:VEVENT
BEGIN:VEVENT
DTSTART;TZID=America/Vancouver:20260701T100000
DTEND;TZID=America/Vancouver:20260701T120000
DTSTAMP:20260422T070951
CREATED:20260409T233619Z
LAST-MODIFIED:20260409T235944Z
UID:10004993-1782900000-1782907200@www.surreylawnbowlingclub.ca
SUMMARY:Tri-Cities 2026
DESCRIPTION:
URL:https://www.surreylawnbowlingclub.ca/event/tri-cities-2025-2/2026-07-01/
END:VEVENT
END:VCALENDAR